BEGIN:VCALENDAR
VERSION:2.0
PRODID:-//Chesapeake Fishing Shanty Conservancy (CFSC) - ECPv6.15.20//NONSGML v1.0//EN
CALSCALE:GREGORIAN
METHOD:PUBLISH
X-ORIGINAL-URL:https://fishingshanty.org
X-WR-CALDESC:Events for Chesapeake Fishing Shanty Conservancy (CFSC)
REFRESH-INTERVAL;VALUE=DURATION:PT1H
X-Robots-Tag:noindex
X-PUBLISHED-TTL:PT1H
BEGIN:VTIMEZONE
TZID:UTC
BEGIN:STANDARD
TZOFFSETFROM:+0000
TZOFFSETTO:+0000
TZNAME:UTC
DTSTART:20230101T000000
END:STANDARD
END:VTIMEZONE
BEGIN:VEVENT
DTSTART;TZID=UTC:20240513T110000
DTEND;TZID=UTC:20240513T133000
DTSTAMP:20260423T181436
CREATED:20240129T225216Z
LAST-MODIFIED:20240416T143527Z
UID:3535-1715598000-1715607000@fishingshanty.org
SUMMARY:2024 Lambert Wickes Society Visit
DESCRIPTION:The Lambert Wickes Society will visit the Ark Boat Site for a historic and cultural presentation followed by a Luncheon at the Dockside Cafe.’ \n  \n\n\n\n\n\n\n\n\n\n\n\n 
URL:https://fishingshanty.org/event/lambert-wicks-group/
LOCATION:On Site\, 21096 Chesapeake Ave.\, Rock Hall\, MD\, 21661\, United States
CATEGORIES:Education
ATTACH;FMTTYPE=image/png:https://fishingshanty.org/wp-content/uploads/2024/01/lambertwickes.png
END:VEVENT
END:VCALENDAR